BEGIN:VCALENDAR
VERSION:2.0
PRODID:-//Glas &amp; Kunst - ECPv6.15.20//NONSGML v1.0//EN
CALSCALE:GREGORIAN
METHOD:PUBLISH
X-WR-CALNAME:Glas &amp; Kunst
X-ORIGINAL-URL:https://www.glasfusing.eu
X-WR-CALDESC:Evenementen voor Glas &amp; Kunst
REFRESH-INTERVAL;VALUE=DURATION:PT1H
X-Robots-Tag:noindex
X-PUBLISHED-TTL:PT1H
BEGIN:VTIMEZONE
TZID:UTC
BEGIN:STANDARD
TZOFFSETFROM:+0000
TZOFFSETTO:+0000
TZNAME:UTC
DTSTART:20250101T000000
END:STANDARD
END:VTIMEZONE
BEGIN:VEVENT
DTSTART;TZID=UTC:20260228T110000
DTEND;TZID=UTC:20260228T150000
DTSTAMP:20260421T162127
CREATED:20251028T140046Z
LAST-MODIFIED:20260218T111148Z
UID:2143-1772276400-1772290800@www.glasfusing.eu
SUMMARY:Basisworkshop Glasfusing
DESCRIPTION:Locatie: Dorpsstraat v/o Steenstraat 59\, 3732HH De Bilt\nAantal deelnemers: Minimaal 2\, maximaal 8 personen\nDuur workshop: Ongeveer 4 uur\nLeeftijd: Vanaf 16 jaar (of in overleg)\nPrijs: €125\,00 (inclusief BTW\, materiaal\, koffie\, thee en lunch) \nOpmerking: Indien het tijdens de workshop gemaakte object twee of meer ovengangen vereist\, zullen er extra ovenkosten in rekening worden gebracht\, volgens de prijzen vermeld in de prijslijst. Eén ovengang is inbegrepen in de prijs.
URL:https://www.glasfusing.eu/workshop/basisworkshop-glasfusing/
LOCATION:Glasstudio\, Dorpsstraat v/o Steenstraat 59\, De Bilt\, 3732HH\, Netherlands
CATEGORIES:Basisworkshop glasfusing,Beginners
ATTACH;FMTTYPE=image/jpeg:https://www.glasfusing.eu/wp-content/uploads/2026/01/basisworkshop-glasfusing.jpg
END:VEVENT
END:VCALENDAR